Package: Streamer Version: 1.43.0 Command: rm -rf Streamer.buildbin-libdir && mkdir Streamer.buildbin-libdir && /Users/biocbuild/BBS/utils/build-universal.sh Streamer_1.43.0.tar.gz /Library/Frameworks/R.framework/Resources/bin/R Streamer.buildbin-libdir StartedAt: 2022-07-07 09:17:54 -0400 (Thu, 07 Jul 2022) EndedAt: 2022-07-07 09:18:11 -0400 (Thu, 07 Jul 2022) EllapsedTime: 16.6 seconds RetCode: 1 Status: ERROR PackageFile: None PackageFileSize: NA