Package: ShortRead Version: 1.56.1 Command: /home/biocbuild/bbs-3.16-bioc/R/bin/R CMD check --install=check:ShortRead.install-out.txt --library=/home/biocbuild/bbs-3.16-bioc/R/site-library --timings ShortRead_1.56.1.tar.gz StartedAt: 2023-04-11 00:00:43 -0400 (Tue, 11 Apr 2023) EndedAt: 2023-04-11 00:05:26 -0400 (Tue, 11 Apr 2023) EllapsedTime: 282.7 seconds RetCode: 0 Status: WARNINGS CheckDir: ShortRead.Rcheck Warnings: 1