Package: SeqGSEA Version: 1.37.0 Command: /Library/Frameworks/R.framework/Resources/bin/R CMD INSTALL SeqGSEA StartedAt: 2022-07-10 18:45:27 -0400 (Sun, 10 Jul 2022) EndedAt: 2022-07-10 18:46:18 -0400 (Sun, 10 Jul 2022) EllapsedTime: 50.7 seconds RetCode: 0 Status: OK