Package: SUITOR Version: 0.99.18 Command: /Library/Frameworks/R.framework/Resources/bin/R CMD build --keep-empty-dirs --no-resave-data SUITOR StartedAt: 2022-07-07 06:07:13 -0400 (Thu, 07 Jul 2022) EndedAt: 2022-07-07 06:08:23 -0400 (Thu, 07 Jul 2022) EllapsedTime: 70.8 seconds RetCode: 1 Status: ERROR PackageFile: None PackageFileSize: NA