Package: SPOTlight Version: 1.2.0 Command: chmod a+r SPOTlight -R && F:\biocbuild\bbs-3.16-bioc\R\bin\R.exe CMD build --keep-empty-dirs --no-resave-data SPOTlight StartedAt: 2023-04-10 21:52:38 -0400 (Mon, 10 Apr 2023) EndedAt: 2023-04-10 21:55:53 -0400 (Mon, 10 Apr 2023) EllapsedTime: 195.1 seconds RetCode: 0 Status: OK PackageFile: SPOTlight_1.2.0.tar.gz PackageFileSize: 1.723 MiB