Package: SPIA Version: 2.50.0 Command: /home/biocbuild/bbs-3.16-bioc/R/bin/R CMD check --install=check:SPIA.install-out.txt --library=/home/biocbuild/bbs-3.16-bioc/R/site-library --timings SPIA_2.50.0.tar.gz StartedAt: 2023-04-11 00:14:33 -0400 (Tue, 11 Apr 2023) EndedAt: 2023-04-11 00:29:55 -0400 (Tue, 11 Apr 2023) EllapsedTime: 921.5 seconds RetCode: 0 Status: OK CheckDir: SPIA.Rcheck Warnings: 0