Package: SISPA Version: 1.28.0 Command: rm -rf SISPA.buildbin-libdir && mkdir SISPA.buildbin-libdir && F:\biocbuild\bbs-3.16-bioc\R\bin\R.exe CMD INSTALL --build --library=SISPA.buildbin-libdir SISPA_1.28.0.tar.gz StartedAt: 2023-04-11 08:48:36 -0400 (Tue, 11 Apr 2023) EndedAt: 2023-04-11 08:49:22 -0400 (Tue, 11 Apr 2023) EllapsedTime: 45.7 seconds RetCode: 0 Status: OK PackageFile: SISPA_1.28.0.zip PackageFileSize: 147.7 KiB