Package: SISPA Version: 1.28.0 Command: /Library/Frameworks/R.framework/Resources/bin/R CMD build --keep-empty-dirs --no-resave-data SISPA StartedAt: 2023-04-10 18:05:12 -0400 (Mon, 10 Apr 2023) EndedAt: 2023-04-10 18:07:10 -0400 (Mon, 10 Apr 2023) EllapsedTime: 118.7 seconds RetCode: 0 Status: OK PackageFile: SISPA_1.28.0.tar.gz PackageFileSize: 249.3 KiB