Package: SICtools Version: 1.28.0 Command: rm -rf SICtools.buildbin-libdir && mkdir SICtools.buildbin-libdir && /Users/biocbuild/BBS/utils/build-universal.sh SICtools_1.28.0.tar.gz /Library/Frameworks/R.framework/Resources/bin/R SICtools.buildbin-libdir StartedAt: 2023-04-11 00:05:10 -0400 (Tue, 11 Apr 2023) EndedAt: 2023-04-11 00:05:58 -0400 (Tue, 11 Apr 2023) EllapsedTime: 48.5 seconds RetCode: 0 Status: OK PackageFile: SICtools_1.28.0.tgz PackageFileSize: 1.329 MiB