Package: SEPIRA Version: 1.18.0 Command: /Library/Frameworks/R.framework/Resources/bin/R CMD build --keep-empty-dirs --no-resave-data SEPIRA StartedAt: 2023-04-10 17:59:41 -0400 (Mon, 10 Apr 2023) EndedAt: 2023-04-10 17:59:53 -0400 (Mon, 10 Apr 2023) EllapsedTime: 11.4 seconds RetCode: 0 Status: OK PackageFile: SEPIRA_1.18.0.tar.gz PackageFileSize: 5.08 MiB