Package: SDAMS Version: 1.18.0 Command: rm -rf SDAMS.buildbin-libdir && mkdir SDAMS.buildbin-libdir && F:\biocbuild\bbs-3.16-bioc\R\bin\R.exe CMD INSTALL --build --library=SDAMS.buildbin-libdir SDAMS_1.18.0.tar.gz StartedAt: 2023-04-11 08:45:53 -0400 (Tue, 11 Apr 2023) EndedAt: 2023-04-11 08:46:20 -0400 (Tue, 11 Apr 2023) EllapsedTime: 26.4 seconds RetCode: 0 Status: OK PackageFile: SDAMS_1.18.0.zip PackageFileSize: 881.6 KiB