Package: Rsamtools Version: 2.14.0 Command: F:\biocbuild\bbs-3.16-bioc\R\bin\R.exe CMD check --no-multiarch --install=check:Rsamtools.install-out.txt --library=F:\biocbuild\bbs-3.16-bioc\R\library --no-vignettes --timings Rsamtools_2.14.0.tar.gz StartedAt: 2023-04-11 05:28:41 -0400 (Tue, 11 Apr 2023) EndedAt: 2023-04-11 05:32:07 -0400 (Tue, 11 Apr 2023) EllapsedTime: 205.3 seconds RetCode: 0 Status: WARNINGS CheckDir: Rsamtools.Rcheck Warnings: 1