Package: RareVariantVis Version: 2.26.0 Command: /Library/Frameworks/R.framework/Resources/bin/R CMD check --install=check:RareVariantVis.install-out.txt --library=/Library/Frameworks/R.framework/Resources/library --no-vignettes --timings RareVariantVis_2.26.0.tar.gz StartedAt: 2023-04-10 22:06:18 -0400 (Mon, 10 Apr 2023) EndedAt: 2023-04-10 22:10:55 -0400 (Mon, 10 Apr 2023) EllapsedTime: 276.7 seconds RetCode: 0 Status: OK CheckDir: RareVariantVis.Rcheck Warnings: 0