Package: RTopper Version: 1.44.1 Command: rm -rf RTopper.buildbin-libdir && mkdir RTopper.buildbin-libdir && F:\biocbuild\bbs-3.16-bioc\R\bin\R.exe CMD INSTALL --build --library=RTopper.buildbin-libdir RTopper_1.44.1.tar.gz StartedAt: 2023-04-11 08:42:13 -0400 (Tue, 11 Apr 2023) EndedAt: 2023-04-11 08:42:35 -0400 (Tue, 11 Apr 2023) EllapsedTime: 22.8 seconds RetCode: 0 Status: OK PackageFile: RTopper_1.44.1.zip PackageFileSize: 1.236 MiB