Package: RCy3 Version: 2.18.0 Command: /Library/Frameworks/R.framework/Resources/bin/R CMD INSTALL RCy3 StartedAt: 2023-04-10 15:09:12 -0400 (Mon, 10 Apr 2023) EndedAt: 2023-04-10 15:09:31 -0400 (Mon, 10 Apr 2023) EllapsedTime: 19.2 seconds RetCode: 0 Status: OK