Package: RCX Version: 1.2.2 Command: chmod a+r RCX -R && F:\biocbuild\bbs-3.16-bioc\R\bin\R.exe CMD build --keep-empty-dirs --no-resave-data RCX StartedAt: 2023-04-10 20:59:01 -0400 (Mon, 10 Apr 2023) EndedAt: 2023-04-10 20:59:46 -0400 (Mon, 10 Apr 2023) EllapsedTime: 45.4 seconds RetCode: 0 Status: OK PackageFile: RCX_1.2.2.tar.gz PackageFileSize: 4.575 MiB