Package: RCX Version: 1.2.2 Command: rm -rf RCX.buildbin-libdir && mkdir RCX.buildbin-libdir && F:\biocbuild\bbs-3.16-bioc\R\bin\R.exe CMD INSTALL --build --library=RCX.buildbin-libdir RCX_1.2.2.tar.gz StartedAt: 2023-04-11 08:35:42 -0400 (Tue, 11 Apr 2023) EndedAt: 2023-04-11 08:36:38 -0400 (Tue, 11 Apr 2023) EllapsedTime: 56.2 seconds RetCode: 0 Status: OK PackageFile: RCX_1.2.2.zip PackageFileSize: 3.6 MiB