Package: RCX Version: 1.2.2 Command: /Library/Frameworks/R.framework/Resources/bin/R CMD build --keep-empty-dirs --no-resave-data RCX StartedAt: 2023-04-10 17:40:45 -0400 (Mon, 10 Apr 2023) EndedAt: 2023-04-10 17:41:10 -0400 (Mon, 10 Apr 2023) EllapsedTime: 24.6 seconds RetCode: 0 Status: OK PackageFile: RCX_1.2.2.tar.gz PackageFileSize: 4.573 MiB