Package: RCSL Version: 1.6.0 Command: /Library/Frameworks/R.framework/Resources/bin/R CMD check --install=check:RCSL.install-out.txt --library=/Library/Frameworks/R.framework/Resources/library --no-vignettes --timings RCSL_1.6.0.tar.gz StartedAt: 2023-04-10 22:07:32 -0400 (Mon, 10 Apr 2023) EndedAt: 2023-04-10 22:13:47 -0400 (Mon, 10 Apr 2023) EllapsedTime: 374.2 seconds RetCode: 0 Status: OK CheckDir: RCSL.Rcheck Warnings: 0