Package: RCSL Version: 1.6.0 Command: rm -rf RCSL.buildbin-libdir && mkdir RCSL.buildbin-libdir && /Users/biocbuild/BBS/utils/build-universal.sh RCSL_1.6.0.tar.gz /Library/Frameworks/R.framework/Resources/bin/R RCSL.buildbin-libdir StartedAt: 2023-04-10 23:59:17 -0400 (Mon, 10 Apr 2023) EndedAt: 2023-04-10 23:59:31 -0400 (Mon, 10 Apr 2023) EllapsedTime: 13.7 seconds RetCode: 0 Status: OK PackageFile: RCSL_1.6.0.tgz PackageFileSize: 3.029 MiB