Package: RAREsim Version: 1.2.0 Command: chmod a+r RAREsim -R && F:\biocbuild\bbs-3.16-bioc\R\bin\R.exe CMD build --keep-empty-dirs --no-resave-data RAREsim StartedAt: 2023-04-10 20:55:54 -0400 (Mon, 10 Apr 2023) EndedAt: 2023-04-10 20:56:04 -0400 (Mon, 10 Apr 2023) EllapsedTime: 9.7 seconds RetCode: 0 Status: OK PackageFile: RAREsim_1.2.0.tar.gz PackageFileSize: 257.3 KiB