Package: QUBIC Version: 1.26.0 Command: F:\biocbuild\bbs-3.16-bioc\R\bin\R.exe CMD check --no-multiarch --install=check:QUBIC.install-out.txt --library=F:\biocbuild\bbs-3.16-bioc\R\library --no-vignettes --timings QUBIC_1.26.0.tar.gz StartedAt: 2023-04-11 04:55:02 -0400 (Tue, 11 Apr 2023) EndedAt: 2023-04-11 04:56:14 -0400 (Tue, 11 Apr 2023) EllapsedTime: 72.2 seconds RetCode: 0 Status: OK CheckDir: QUBIC.Rcheck Warnings: 0