Package: QDNAseq Version: 1.33.1 Command: /Library/Frameworks/R.framework/Resources/bin/R CMD build --keep-empty-dirs --no-resave-data QDNAseq StartedAt: 2022-07-07 02:51:07 -0400 (Thu, 07 Jul 2022) EndedAt: 2022-07-07 02:51:08 -0400 (Thu, 07 Jul 2022) EllapsedTime: 1.2 seconds RetCode: 1 Status: ERROR PackageFile: None PackageFileSize: NA