Package: PrInCE Version: 1.14.0 Command: F:\biocbuild\bbs-3.16-bioc\R\bin\R.exe CMD check --no-multiarch --install=check:PrInCE.install-out.txt --library=F:\biocbuild\bbs-3.16-bioc\R\library --no-vignettes --timings PrInCE_1.14.0.tar.gz StartedAt: 2023-04-11 04:40:55 -0400 (Tue, 11 Apr 2023) EndedAt: 2023-04-11 04:44:01 -0400 (Tue, 11 Apr 2023) EllapsedTime: 185.3 seconds RetCode: 0 Status: WARNINGS CheckDir: PrInCE.Rcheck Warnings: 1