git_url: https://git.bioconductor.org/packages/POWSC git_branch: RELEASE_3_16 git_last_commit: 696b672 git_last_commit_date: 2022-11-01 11:24:55 -0400 (Tue, 01 Nov 2022) Package: POWSC Version: 1.6.0 Maintainer: Kenong Su MaintainerEmail: kenong.su at emory.edu