Package: OmicCircos Version: 1.36.0 Command: chmod a+r OmicCircos -R && F:\biocbuild\bbs-3.16-bioc\R\bin\R.exe CMD build --keep-empty-dirs --no-resave-data OmicCircos StartedAt: 2023-04-10 20:15:38 -0400 (Mon, 10 Apr 2023) EndedAt: 2023-04-10 20:33:07 -0400 (Mon, 10 Apr 2023) EllapsedTime: 1048.9 seconds RetCode: 0 Status: OK PackageFile: OmicCircos_1.36.0.tar.gz PackageFileSize: 3.619 MiB