Package: OmicCircos Version: 1.36.0 Command: /Library/Frameworks/R.framework/Resources/bin/R CMD build --keep-empty-dirs --no-resave-data OmicCircos StartedAt: 2023-04-10 17:21:26 -0400 (Mon, 10 Apr 2023) EndedAt: 2023-04-10 17:21:58 -0400 (Mon, 10 Apr 2023) EllapsedTime: 31.8 seconds RetCode: 0 Status: OK PackageFile: OmicCircos_1.36.0.tar.gz PackageFileSize: 2.833 MiB