Package: Mulcom Version: 1.48.0 Command: /home/biocbuild/bbs-3.16-bioc/R/bin/R CMD check --install=check:Mulcom.install-out.txt --library=/home/biocbuild/bbs-3.16-bioc/R/site-library --timings Mulcom_1.48.0.tar.gz StartedAt: 2023-04-10 22:14:05 -0400 (Mon, 10 Apr 2023) EndedAt: 2023-04-10 22:15:04 -0400 (Mon, 10 Apr 2023) EllapsedTime: 59.3 seconds RetCode: 0 Status: WARNINGS CheckDir: Mulcom.Rcheck Warnings: 1