Package: Mulcom Version: 1.48.0 Command: /Library/Frameworks/R.framework/Resources/bin/R CMD check --install=check:Mulcom.install-out.txt --library=/Library/Frameworks/R.framework/Resources/library --no-vignettes --timings Mulcom_1.48.0.tar.gz StartedAt: 2023-04-10 21:26:02 -0400 (Mon, 10 Apr 2023) EndedAt: 2023-04-10 21:27:15 -0400 (Mon, 10 Apr 2023) EllapsedTime: 72.6 seconds RetCode: 0 Status: WARNINGS CheckDir: Mulcom.Rcheck Warnings: 1