Package: MsBackendMassbank Version: 1.6.1 Command: rm -rf MsBackendMassbank.buildbin-libdir && mkdir MsBackendMassbank.buildbin-libdir && F:\biocbuild\bbs-3.16-bioc\R\bin\R.exe CMD INSTALL --build --library=MsBackendMassbank.buildbin-libdir MsBackendMassbank_1.6.1.tar.gz StartedAt: 2023-04-11 08:21:12 -0400 (Tue, 11 Apr 2023) EndedAt: 2023-04-11 08:21:37 -0400 (Tue, 11 Apr 2023) EllapsedTime: 24.4 seconds RetCode: 0 Status: OK PackageFile: MsBackendMassbank_1.6.1.zip PackageFileSize: 545.3 KiB