Package: MetaCyto Version: 1.19.0 Command: /Library/Frameworks/R.framework/Resources/bin/R CMD INSTALL MetaCyto StartedAt: 2022-07-10 19:44:25 -0400 (Sun, 10 Jul 2022) EndedAt: 2022-07-10 19:44:57 -0400 (Sun, 10 Jul 2022) EllapsedTime: 31.3 seconds RetCode: 0 Status: OK