Package: MBCB Version: 1.52.0 Command: rm -rf MBCB.buildbin-libdir && mkdir MBCB.buildbin-libdir && /Users/biocbuild/BBS/utils/build-universal.sh MBCB_1.52.0.tar.gz /Library/Frameworks/R.framework/Resources/bin/R MBCB.buildbin-libdir StartedAt: 2023-04-10 23:50:27 -0400 (Mon, 10 Apr 2023) EndedAt: 2023-04-10 23:50:34 -0400 (Mon, 10 Apr 2023) EllapsedTime: 7.0 seconds RetCode: 0 Status: OK PackageFile: MBCB_1.52.0.tgz PackageFileSize: 468 KiB