Package: MBASED Version: 1.31.0 Command: /Library/Frameworks/R.framework/Resources/bin/R CMD build --keep-empty-dirs --no-resave-data MBASED StartedAt: 2022-07-06 23:46:36 -0400 (Wed, 06 Jul 2022) EndedAt: 2022-07-06 23:48:39 -0400 (Wed, 06 Jul 2022) EllapsedTime: 122.2 seconds RetCode: 0 Status: OK PackageFile: MBASED_1.31.0.tar.gz PackageFileSize: 362.9 KiB