Package: LRcell Version: 1.5.0 Command: /Library/Frameworks/R.framework/Resources/bin/R CMD build --keep-empty-dirs --no-resave-data LRcell StartedAt: 2022-07-06 23:28:53 -0400 (Wed, 06 Jul 2022) EndedAt: 2022-07-06 23:30:10 -0400 (Wed, 06 Jul 2022) EllapsedTime: 77.1 seconds RetCode: 0 Status: OK PackageFile: LRcell_1.5.0.tar.gz PackageFileSize: 969.3 KiB