Package: IRanges Version: 2.32.0 Command: /Library/Frameworks/R.framework/Resources/bin/R CMD build --keep-empty-dirs --no-resave-data IRanges StartedAt: 2023-04-10 16:54:57 -0400 (Mon, 10 Apr 2023) EndedAt: 2023-04-10 16:56:08 -0400 (Mon, 10 Apr 2023) EllapsedTime: 71.7 seconds RetCode: 0 Status: OK PackageFile: IRanges_2.32.0.tar.gz PackageFileSize: 468.7 KiB