Package: HiContacts Version: 1.0.0 Command: rm -rf HiContacts.buildbin-libdir && mkdir HiContacts.buildbin-libdir && F:\biocbuild\bbs-3.16-bioc\R\bin\R.exe CMD INSTALL --build --library=HiContacts.buildbin-libdir HiContacts_1.0.0.tar.gz StartedAt: 2023-04-11 08:08:19 -0400 (Tue, 11 Apr 2023) EndedAt: 2023-04-11 08:10:00 -0400 (Tue, 11 Apr 2023) EllapsedTime: 101.1 seconds RetCode: 0 Status: OK PackageFile: HiContacts_1.0.0.zip PackageFileSize: 3.233 MiB