Package: HDTD Version: 1.32.2 Command: F:\biocbuild\bbs-3.16-bioc\R\bin\R.exe CMD INSTALL HDTD StartedAt: 2023-04-10 15:31:31 -0400 (Mon, 10 Apr 2023) EndedAt: 2023-04-10 15:32:21 -0400 (Mon, 10 Apr 2023) EllapsedTime: 49.9 seconds RetCode: 0 Status: OK