Package: GlobalAncova Version: 4.16.0 Command: /Library/Frameworks/R.framework/Resources/bin/R CMD INSTALL GlobalAncova StartedAt: 2023-04-10 15:26:40 -0400 (Mon, 10 Apr 2023) EndedAt: 2023-04-10 15:27:12 -0400 (Mon, 10 Apr 2023) EllapsedTime: 31.6 seconds RetCode: 0 Status: OK