Package: GlobalAncova Version: 4.16.0 Command: /Library/Frameworks/R.framework/Resources/bin/R CMD check --install=check:GlobalAncova.install-out.txt --library=/Library/Frameworks/R.framework/Resources/library --no-vignettes --timings GlobalAncova_4.16.0.tar.gz StartedAt: 2023-04-10 20:29:11 -0400 (Mon, 10 Apr 2023) EndedAt: 2023-04-10 20:31:43 -0400 (Mon, 10 Apr 2023) EllapsedTime: 152.4 seconds RetCode: 0 Status: OK CheckDir: GlobalAncova.Rcheck Warnings: 0