Package: GlobalAncova Version: 4.16.0 Command: /Library/Frameworks/R.framework/Resources/bin/R CMD build --keep-empty-dirs --no-resave-data GlobalAncova StartedAt: 2023-04-10 16:42:49 -0400 (Mon, 10 Apr 2023) EndedAt: 2023-04-10 16:48:10 -0400 (Mon, 10 Apr 2023) EllapsedTime: 320.9 seconds RetCode: 0 Status: OK PackageFile: GlobalAncova_4.16.0.tar.gz PackageFileSize: 1.206 MiB