Package: GenomicTuples Version: 1.32.0 Command: /home/biocbuild/bbs-3.16-bioc/R/bin/R CMD check --install=check:GenomicTuples.install-out.txt --library=/home/biocbuild/bbs-3.16-bioc/R/site-library --timings GenomicTuples_1.32.0.tar.gz StartedAt: 2023-04-10 20:56:27 -0400 (Mon, 10 Apr 2023) EndedAt: 2023-04-10 20:58:33 -0400 (Mon, 10 Apr 2023) EllapsedTime: 125.8 seconds RetCode: 0 Status: OK CheckDir: GenomicTuples.Rcheck Warnings: 0