Package: GenomicAlignments Version: 1.34.1 Command: /Library/Frameworks/R.framework/Resources/bin/R CMD check --install=check:GenomicAlignments.install-out.txt --library=/Library/Frameworks/R.framework/Resources/library --no-vignettes --timings GenomicAlignments_1.34.1.tar.gz StartedAt: 2023-04-10 20:23:08 -0400 (Mon, 10 Apr 2023) EndedAt: 2023-04-10 20:27:29 -0400 (Mon, 10 Apr 2023) EllapsedTime: 260.7 seconds RetCode: 0 Status: OK CheckDir: GenomicAlignments.Rcheck Warnings: 0