Package: GSEABenchmarkeR Version: 1.18.0 Command: /Library/Frameworks/R.framework/Resources/bin/R CMD check --install=check:GSEABenchmarkeR.install-out.txt --library=/Library/Frameworks/R.framework/Resources/library --no-vignettes --timings GSEABenchmarkeR_1.18.0.tar.gz StartedAt: 2023-04-10 20:33:50 -0400 (Mon, 10 Apr 2023) EndedAt: 2023-04-10 20:38:29 -0400 (Mon, 10 Apr 2023) EllapsedTime: 279.2 seconds RetCode: 0 Status: OK CheckDir: GSEABenchmarkeR.Rcheck Warnings: 0