Package: GSEABase Version: 1.60.0 Command: rm -rf GSEABase.buildbin-libdir && mkdir GSEABase.buildbin-libdir && F:\biocbuild\bbs-3.16-bioc\R\bin\R.exe CMD INSTALL --build --library=GSEABase.buildbin-libdir GSEABase_1.60.0.tar.gz StartedAt: 2023-04-11 08:06:51 -0400 (Tue, 11 Apr 2023) EndedAt: 2023-04-11 08:07:27 -0400 (Tue, 11 Apr 2023) EllapsedTime: 36.0 seconds RetCode: 0 Status: OK PackageFile: GSEABase_1.60.0.zip PackageFileSize: 936.5 KiB