Package: GRENITS Version: 1.50.2 Command: /Library/Frameworks/R.framework/Resources/bin/R CMD check --install=check:GRENITS.install-out.txt --library=/Library/Frameworks/R.framework/Resources/library --no-vignettes --timings GRENITS_1.50.2.tar.gz StartedAt: 2023-04-10 20:32:51 -0400 (Mon, 10 Apr 2023) EndedAt: 2023-04-10 20:35:52 -0400 (Mon, 10 Apr 2023) EllapsedTime: 180.5 seconds RetCode: 0 Status: OK CheckDir: GRENITS.Rcheck Warnings: 0