Package: GPA Version: 1.10.0 Command: chmod a+r GPA -R && F:\biocbuild\bbs-3.16-bioc\R\bin\R.exe CMD build --keep-empty-dirs --no-resave-data GPA StartedAt: 2023-04-10 19:05:17 -0400 (Mon, 10 Apr 2023) EndedAt: 2023-04-10 19:07:59 -0400 (Mon, 10 Apr 2023) EllapsedTime: 161.6 seconds RetCode: 0 Status: OK PackageFile: GPA_1.10.0.tar.gz PackageFileSize: 184.7 KiB