Package: GISPA Version: 1.22.0 Command: rm -rf GISPA.buildbin-libdir && mkdir GISPA.buildbin-libdir && /Users/biocbuild/BBS/utils/build-universal.sh GISPA_1.22.0.tar.gz /Library/Frameworks/R.framework/Resources/bin/R GISPA.buildbin-libdir StartedAt: 2023-04-10 23:45:59 -0400 (Mon, 10 Apr 2023) EndedAt: 2023-04-10 23:46:32 -0400 (Mon, 10 Apr 2023) EllapsedTime: 32.8 seconds RetCode: 0 Status: OK PackageFile: GISPA_1.22.0.tgz PackageFileSize: 229.5 KiB