Package: GENESIS Version: 2.28.0 Command: rm -rf GENESIS.buildbin-libdir && mkdir GENESIS.buildbin-libdir && /Users/biocbuild/BBS/utils/build-universal.sh GENESIS_2.28.0.tar.gz /Library/Frameworks/R.framework/Resources/bin/R GENESIS.buildbin-libdir StartedAt: 2023-04-10 23:44:57 -0400 (Mon, 10 Apr 2023) EndedAt: 2023-04-10 23:45:31 -0400 (Mon, 10 Apr 2023) EllapsedTime: 34.4 seconds RetCode: 0 Status: OK PackageFile: GENESIS_2.28.0.tgz PackageFileSize: 3.943 MiB