Package: GAprediction Version: 1.24.0 Command: /home/biocbuild/bbs-3.16-bioc/R/bin/R CMD check --install=check:GAprediction.install-out.txt --library=/home/biocbuild/bbs-3.16-bioc/R/site-library --timings GAprediction_1.24.0.tar.gz StartedAt: 2023-04-10 20:48:17 -0400 (Mon, 10 Apr 2023) EndedAt: 2023-04-10 20:50:14 -0400 (Mon, 10 Apr 2023) EllapsedTime: 116.7 seconds RetCode: 0 Status: OK CheckDir: GAprediction.Rcheck Warnings: 0