Package: FunChIP Version: 1.24.0 Command: /Library/Frameworks/R.framework/Resources/bin/R CMD check --install=check:FunChIP.install-out.txt --library=/Library/Frameworks/R.framework/Resources/library --no-vignettes --timings FunChIP_1.24.0.tar.gz StartedAt: 2023-04-10 20:17:08 -0400 (Mon, 10 Apr 2023) EndedAt: 2023-04-10 20:20:11 -0400 (Mon, 10 Apr 2023) EllapsedTime: 182.3 seconds RetCode: 0 Status: OK CheckDir: FunChIP.Rcheck Warnings: 0